BEGIN:VCALENDAR
VERSION:2.0
PRODID:-//Boston Lyric Opera - ECPv6.15.18//NONSGML v1.0//EN
CALSCALE:GREGORIAN
METHOD:PUBLISH
X-WR-CALNAME:Boston Lyric Opera
X-ORIGINAL-URL:https://blo.org
X-WR-CALDESC:Events for Boston Lyric Opera
REFRESH-INTERVAL;VALUE=DURATION:PT1H
X-Robots-Tag:noindex
X-PUBLISHED-TTL:PT1H
BEGIN:VTIMEZONE
TZID:America/New_York
BEGIN:DAYLIGHT
TZOFFSETFROM:-0500
TZOFFSETTO:-0400
TZNAME:EDT
DTSTART:20240310T070000
END:DAYLIGHT
BEGIN:STANDARD
TZOFFSETFROM:-0400
TZOFFSETTO:-0500
TZNAME:EST
DTSTART:20241103T060000
END:STANDARD
BEGIN:DAYLIGHT
TZOFFSETFROM:-0500
TZOFFSETTO:-0400
TZNAME:EDT
DTSTART:20250309T070000
END:DAYLIGHT
BEGIN:STANDARD
TZOFFSETFROM:-0400
TZOFFSETTO:-0500
TZNAME:EST
DTSTART:20251102T060000
END:STANDARD
BEGIN:DAYLIGHT
TZOFFSETFROM:-0500
TZOFFSETTO:-0400
TZNAME:EDT
DTSTART:20260308T070000
END:DAYLIGHT
BEGIN:STANDARD
TZOFFSETFROM:-0400
TZOFFSETTO:-0500
TZNAME:EST
DTSTART:20261101T060000
END:STANDARD
BEGIN:DAYLIGHT
TZOFFSETFROM:-0500
TZOFFSETTO:-0400
TZNAME:EDT
DTSTART:20270314T070000
END:DAYLIGHT
BEGIN:STANDARD
TZOFFSETFROM:-0400
TZOFFSETTO:-0500
TZNAME:EST
DTSTART:20271107T060000
END:STANDARD
END:VTIMEZONE
BEGIN:VEVENT
DTSTART;TZID=America/New_York:20260329T150000
DTEND;TZID=America/New_York:20260329T150000
DTSTAMP:20260422T020450
CREATED:20250522T191026Z
LAST-MODIFIED:20260223T171704Z
UID:10000007-1774796400-1774796400@blo.org
SUMMARY:Song of the Earth (Das Lied von der Erde)
DESCRIPTION:Composed in the shadow of profound personal tragedy\, Gustav Mahler’s Song of the Earth (Das Lied von der Erde) is a meditation on nature\, longing\, and farewell. Presented in Schoenberg’s chamber arrangement\, director Anne Bogart’s new production uses projections\, light\, and immersive staging to invite you into the emotional core of the music while crafting a vivid sensory experience of beauty\, fragility\, and impermanence. BLO’s Opera + Community Studios provides a 250-seat setting designed for immediacy\, creating a rare opportunity to encounter Mahler’s farewell up close — fleeting\, intimate\, and unrepeatable. \nArrive early for the pre-show experience – a threshold between worlds. We invite you to check your coat and your day at the door and enter a curated space rich with sound and ambiance as you tune into the resonance of the art\, the community that has gathered\, and the story that is about to unfold. \nLEARN MORE
URL:https://blo.org/event/song-of-the-earth-das-lied-von-der-erde/2026-03-29/
LOCATION:Opera + Community Studios\, 15 Channel Center St\, Boston\, MA\, 02210\, United States
CATEGORIES:2025/26 Season,Song of the Earth
ATTACH;FMTTYPE=image/jpeg:https://blo.org/wp-content/uploads/2025/05/743671499-blo2526_songearth_3125x2188-scaled.jpg
ORGANIZER;CN="Boston Lyric Opera":MAILTO:boxoffice@blo.org
END:VEVENT
BEGIN:VEVENT
DTSTART;TZID=America/New_York:20260328T150000
DTEND;TZID=America/New_York:20260328T150000
DTSTAMP:20260422T020450
CREATED:20250522T191026Z
LAST-MODIFIED:20260223T171704Z
UID:10000006-1774710000-1774710000@blo.org
SUMMARY:Song of the Earth (Das Lied von der Erde)
DESCRIPTION:Composed in the shadow of profound personal tragedy\, Gustav Mahler’s Song of the Earth (Das Lied von der Erde) is a meditation on nature\, longing\, and farewell. Presented in Schoenberg’s chamber arrangement\, director Anne Bogart’s new production uses projections\, light\, and immersive staging to invite you into the emotional core of the music while crafting a vivid sensory experience of beauty\, fragility\, and impermanence. BLO’s Opera + Community Studios provides a 250-seat setting designed for immediacy\, creating a rare opportunity to encounter Mahler’s farewell up close — fleeting\, intimate\, and unrepeatable. \nArrive early for the pre-show experience – a threshold between worlds. We invite you to check your coat and your day at the door and enter a curated space rich with sound and ambiance as you tune into the resonance of the art\, the community that has gathered\, and the story that is about to unfold. \nLEARN MORE
URL:https://blo.org/event/song-of-the-earth-das-lied-von-der-erde/2026-03-28/
LOCATION:Opera + Community Studios\, 15 Channel Center St\, Boston\, MA\, 02210\, United States
CATEGORIES:2025/26 Season,Song of the Earth
ATTACH;FMTTYPE=image/jpeg:https://blo.org/wp-content/uploads/2025/05/743671499-blo2526_songearth_3125x2188-scaled.jpg
ORGANIZER;CN="Boston Lyric Opera":MAILTO:boxoffice@blo.org
END:VEVENT
BEGIN:VEVENT
DTSTART;TZID=America/New_York:20260327T193000
DTEND;TZID=America/New_York:20260327T193000
DTSTAMP:20260422T020450
CREATED:20250522T191026Z
LAST-MODIFIED:20260223T171704Z
UID:10000005-1774639800-1774639800@blo.org
SUMMARY:Song of the Earth (Das Lied von der Erde)
DESCRIPTION:Composed in the shadow of profound personal tragedy\, Gustav Mahler’s Song of the Earth (Das Lied von der Erde) is a meditation on nature\, longing\, and farewell. Presented in Schoenberg’s chamber arrangement\, director Anne Bogart’s new production uses projections\, light\, and immersive staging to invite you into the emotional core of the music while crafting a vivid sensory experience of beauty\, fragility\, and impermanence. BLO’s Opera + Community Studios provides a 250-seat setting designed for immediacy\, creating a rare opportunity to encounter Mahler’s farewell up close — fleeting\, intimate\, and unrepeatable. \nArrive early for the pre-show experience – a threshold between worlds. We invite you to check your coat and your day at the door and enter a curated space rich with sound and ambiance as you tune into the resonance of the art\, the community that has gathered\, and the story that is about to unfold. \nLEARN MORE
URL:https://blo.org/event/song-of-the-earth-das-lied-von-der-erde/2026-03-27/
LOCATION:Opera + Community Studios\, 15 Channel Center St\, Boston\, MA\, 02210\, United States
CATEGORIES:2025/26 Season,Song of the Earth
ATTACH;FMTTYPE=image/jpeg:https://blo.org/wp-content/uploads/2025/05/743671499-blo2526_songearth_3125x2188-scaled.jpg
ORGANIZER;CN="Boston Lyric Opera":MAILTO:boxoffice@blo.org
END:VEVENT
BEGIN:VEVENT
DTSTART;TZID=America/New_York:20260324T193000
DTEND;TZID=America/New_York:20260324T193000
DTSTAMP:20260422T020450
CREATED:20250522T211401Z
LAST-MODIFIED:20250528T172443Z
UID:10000018-1774380600-1774380600@blo.org
SUMMARY:Raehann in Recital
DESCRIPTION:Raehann Bryce-Davis\, hailed as “one of the best mezzo-sopranos of this generation” (The New York Observer)\, takes the stage in a classical crossover recital presented by Boston Lyric Opera. Celebrated for her “powerhouse vocals” (OperaWire) and commanding presence\, Bryce-Davis brings her extraordinary artistry to a program spanning opera\, art song\, and contemporary works. A dynamic performer equally at home with Verdi\, Wagner\, and new commissions\, she has graced the stages of the Metropolitan Opera\, Dutch National Opera\, and Los Angeles Philharmonic—earning acclaim for her “rich\, velvety tone” and dramatic depth. Don’t miss this rare opportunity to experience her magnetic artistry up close in an evening of music that promises passion and virtuosity. \nLEARN MORE
URL:https://blo.org/event/raehann-in-recital/
LOCATION:Opera + Community Studios\, 15 Channel Center St\, Boston\, MA\, 02210\, United States
CATEGORIES:2025/26 Season,Raehann in Recital
ATTACH;FMTTYPE=image/png:https://blo.org/wp-content/uploads/2025/05/Raehann-scaled.png
ORGANIZER;CN="Boston Lyric Opera":MAILTO:boxoffice@blo.org
END:VEVENT
BEGIN:VEVENT
DTSTART;TZID=America/New_York:20260322T150000
DTEND;TZID=America/New_York:20260322T150000
DTSTAMP:20260422T020450
CREATED:20250522T191026Z
LAST-MODIFIED:20260223T171704Z
UID:10000004-1774191600-1774191600@blo.org
SUMMARY:Song of the Earth (Das Lied von der Erde)
DESCRIPTION:Composed in the shadow of profound personal tragedy\, Gustav Mahler’s Song of the Earth (Das Lied von der Erde) is a meditation on nature\, longing\, and farewell. Presented in Schoenberg’s chamber arrangement\, director Anne Bogart’s new production uses projections\, light\, and immersive staging to invite you into the emotional core of the music while crafting a vivid sensory experience of beauty\, fragility\, and impermanence. BLO’s Opera + Community Studios provides a 250-seat setting designed for immediacy\, creating a rare opportunity to encounter Mahler’s farewell up close — fleeting\, intimate\, and unrepeatable. \nArrive early for the pre-show experience – a threshold between worlds. We invite you to check your coat and your day at the door and enter a curated space rich with sound and ambiance as you tune into the resonance of the art\, the community that has gathered\, and the story that is about to unfold. \nLEARN MORE
URL:https://blo.org/event/song-of-the-earth-das-lied-von-der-erde/2026-03-22/
LOCATION:Opera + Community Studios\, 15 Channel Center St\, Boston\, MA\, 02210\, United States
CATEGORIES:2025/26 Season,Song of the Earth
ATTACH;FMTTYPE=image/jpeg:https://blo.org/wp-content/uploads/2025/05/743671499-blo2526_songearth_3125x2188-scaled.jpg
ORGANIZER;CN="Boston Lyric Opera":MAILTO:boxoffice@blo.org
END:VEVENT
BEGIN:VEVENT
DTSTART;TZID=America/New_York:20260321T150000
DTEND;TZID=America/New_York:20260321T150000
DTSTAMP:20260422T020450
CREATED:20250522T191026Z
LAST-MODIFIED:20260223T171704Z
UID:10000003-1774105200-1774105200@blo.org
SUMMARY:Song of the Earth (Das Lied von der Erde)
DESCRIPTION:Composed in the shadow of profound personal tragedy\, Gustav Mahler’s Song of the Earth (Das Lied von der Erde) is a meditation on nature\, longing\, and farewell. Presented in Schoenberg’s chamber arrangement\, director Anne Bogart’s new production uses projections\, light\, and immersive staging to invite you into the emotional core of the music while crafting a vivid sensory experience of beauty\, fragility\, and impermanence. BLO’s Opera + Community Studios provides a 250-seat setting designed for immediacy\, creating a rare opportunity to encounter Mahler’s farewell up close — fleeting\, intimate\, and unrepeatable. \nArrive early for the pre-show experience – a threshold between worlds. We invite you to check your coat and your day at the door and enter a curated space rich with sound and ambiance as you tune into the resonance of the art\, the community that has gathered\, and the story that is about to unfold. \nLEARN MORE
URL:https://blo.org/event/song-of-the-earth-das-lied-von-der-erde/2026-03-21/
LOCATION:Opera + Community Studios\, 15 Channel Center St\, Boston\, MA\, 02210\, United States
CATEGORIES:2025/26 Season,Song of the Earth
ATTACH;FMTTYPE=image/jpeg:https://blo.org/wp-content/uploads/2025/05/743671499-blo2526_songearth_3125x2188-scaled.jpg
ORGANIZER;CN="Boston Lyric Opera":MAILTO:boxoffice@blo.org
END:VEVENT
BEGIN:VEVENT
DTSTART;TZID=America/New_York:20260320T210000
DTEND;TZID=America/New_York:20260320T210000
DTSTAMP:20260422T020450
CREATED:20260219T170736Z
LAST-MODIFIED:20260219T170736Z
UID:10000131-1774040400-1774040400@blo.org
SUMMARY:Song of the Earth: Opening Night Party
DESCRIPTION:LET’S PARTY!\nSong of the Earth (Das Lied von der Erde)\nOpening Night Party \nJoin the cast and crew of Song of the Earth at the Opening Night Party! Enjoy drinks and light bites as we celebrate these incredible artists on their opening night. \nThe reception will be held on March 20th immediately following curtain at BLO’s Opera + Community Studios \n15 Channel Center Street\, Boston\, MA 02210 \nAdmission: $100 per guest \n\n\n\nAdvance ticket purchases are required as space is not guaranteed. \n\n\n\nPURCHASE TICKETS  \nAA TICKET HOLDERS: Admission to the Opening Night Party is complimentary with the purchase of an AA ticket.  If you have purchased an AA ticket and would like to RSVP to the Opening Night Party\, please contact donorservices@blo.org or call 617.702.8975.
URL:https://blo.org/event/song-of-the-earth-opening-night-party/
LOCATION:Opera + Community Studios\, 15 Channel Center St\, Boston\, MA\, 02210\, United States
CATEGORIES:2025/26 Season,Song of the Earth
ATTACH;FMTTYPE=image/png:https://blo.org/wp-content/uploads/2026/02/ONP_Song-scaled.png
ORGANIZER;CN="Boston Lyric Opera":MAILTO:boxoffice@blo.org
END:VEVENT
BEGIN:VEVENT
DTSTART;TZID=America/New_York:20260320T193000
DTEND;TZID=America/New_York:20260320T193000
DTSTAMP:20260422T020450
CREATED:20250522T191026Z
LAST-MODIFIED:20260223T171704Z
UID:10000002-1774035000-1774035000@blo.org
SUMMARY:Song of the Earth (Das Lied von der Erde)
DESCRIPTION:Composed in the shadow of profound personal tragedy\, Gustav Mahler’s Song of the Earth (Das Lied von der Erde) is a meditation on nature\, longing\, and farewell. Presented in Schoenberg’s chamber arrangement\, director Anne Bogart’s new production uses projections\, light\, and immersive staging to invite you into the emotional core of the music while crafting a vivid sensory experience of beauty\, fragility\, and impermanence. BLO’s Opera + Community Studios provides a 250-seat setting designed for immediacy\, creating a rare opportunity to encounter Mahler’s farewell up close — fleeting\, intimate\, and unrepeatable. \nArrive early for the pre-show experience – a threshold between worlds. We invite you to check your coat and your day at the door and enter a curated space rich with sound and ambiance as you tune into the resonance of the art\, the community that has gathered\, and the story that is about to unfold. \nLEARN MORE
URL:https://blo.org/event/song-of-the-earth-das-lied-von-der-erde/2026-03-20/
LOCATION:Opera + Community Studios\, 15 Channel Center St\, Boston\, MA\, 02210\, United States
CATEGORIES:2025/26 Season,Song of the Earth
ATTACH;FMTTYPE=image/jpeg:https://blo.org/wp-content/uploads/2025/05/743671499-blo2526_songearth_3125x2188-scaled.jpg
ORGANIZER;CN="Boston Lyric Opera":MAILTO:boxoffice@blo.org
END:VEVENT
BEGIN:VEVENT
DTSTART;TZID=America/New_York:20260210T193000
DTEND;TZID=America/New_York:20260210T193000
DTSTAMP:20260422T020450
CREATED:20250522T205008Z
LAST-MODIFIED:20260113T204548Z
UID:10000019-1770751800-1770751800@blo.org
SUMMARY:Mahler Symphony No. 3
DESCRIPTION:Boston Lyric Opera joins Vivo Performing Arts in their presentation of Mahler’s Third Symphony. A colossal masterpiece featuring two choirs\, an expanded orchestra\, and an alto soloist\, this epic work embraces the forces of nature\, the exuberance of life\, the innocence of childhood\, and the transcendent beauty of love. \nLeading this journey are the acclaimed Mahler interpreter Iván Fischer and the Budapest Festival Orchestra. With their signature humanity\, clarity\, and attention to detail\, they bring this symphony to life—capturing the rustle of birds and insects in a summer meadow\, the shimmer of moonlight\, and the breathtaking sweep of the triumphant finale. \nPerformed with the Boston Lyric Opera Chorus and Budapest Festival Orchestra. \nLEARN MORE
URL:https://blo.org/event/mahler-symphony-no-3/
LOCATION:Symphony Hall\, 301 Massachusetts Ave\, Boston\, 02115\, United States
CATEGORIES:2025/26 Season,Mahler Symphony No. 3
ATTACH;FMTTYPE=image/png:https://blo.org/wp-content/uploads/2025/05/Mahler-3-1.png
ORGANIZER;CN="Boston Lyric Opera":MAILTO:boxoffice@blo.org
END:VEVENT
BEGIN:VEVENT
DTSTART;TZID=America/New_York:20260110T200000
DTEND;TZID=America/New_York:20260110T200000
DTSTAMP:20260422T020450
CREATED:20250522T193255Z
LAST-MODIFIED:20250528T155444Z
UID:10000013-1768075200-1768075200@blo.org
SUMMARY:Vanessa
DESCRIPTION:Andris Nelsons leads a brilliant ensemble of opera’s foremost stars in Samuel Barber’s Vanessa – the 1958 Pulitzer Prize-winning masterpiece that stands as a pinnacle of American opera. Presented in Symphony Hall’s legendary acoustics\, with Gian Carlo Menotti’s poignant libretto and Barber’s achingly beautiful score\, this mid-century masterpiece explores the illusions of love through music of extraordinary emotional power. \n\n\nPresented in collaboration with Boston Symphony Orchestra.\nPerformed with the Boston Lyric Opera Chorus. \n\nLEARN MORE
URL:https://blo.org/event/vanessa/2026-01-10/
LOCATION:Symphony Hall\, 301 Massachusetts Ave\, Boston\, 02115\, United States
CATEGORIES:2025/26 Season,Vanessa
ATTACH;FMTTYPE=image/png:https://blo.org/wp-content/uploads/2025/05/Vanessa-scaled.png
ORGANIZER;CN="Boston Lyric Opera":MAILTO:boxoffice@blo.org
END:VEVENT
BEGIN:VEVENT
DTSTART;TZID=America/New_York:20260108T193000
DTEND;TZID=America/New_York:20260108T193000
DTSTAMP:20260422T020450
CREATED:20250522T193255Z
LAST-MODIFIED:20250528T155444Z
UID:10000012-1767900600-1767900600@blo.org
SUMMARY:Vanessa
DESCRIPTION:Andris Nelsons leads a brilliant ensemble of opera’s foremost stars in Samuel Barber’s Vanessa – the 1958 Pulitzer Prize-winning masterpiece that stands as a pinnacle of American opera. Presented in Symphony Hall’s legendary acoustics\, with Gian Carlo Menotti’s poignant libretto and Barber’s achingly beautiful score\, this mid-century masterpiece explores the illusions of love through music of extraordinary emotional power. \n\n\nPresented in collaboration with Boston Symphony Orchestra.\nPerformed with the Boston Lyric Opera Chorus. \n\nLEARN MORE
URL:https://blo.org/event/vanessa/2026-01-08/
LOCATION:Symphony Hall\, 301 Massachusetts Ave\, Boston\, 02115\, United States
CATEGORIES:2025/26 Season,Vanessa
ATTACH;FMTTYPE=image/png:https://blo.org/wp-content/uploads/2025/05/Vanessa-scaled.png
ORGANIZER;CN="Boston Lyric Opera":MAILTO:boxoffice@blo.org
END:VEVENT
BEGIN:VEVENT
DTSTART;TZID=America/New_York:20251112T200000
DTEND;TZID=America/New_York:20251112T200000
DTSTAMP:20260422T020450
CREATED:20250522T190209Z
LAST-MODIFIED:20251003T190239Z
UID:10000063-1762977600-1762977600@blo.org
SUMMARY:Ride of the Valkyries!
DESCRIPTION:What starts as Wagner’s Ride of the Valkyries explodes into a full-throttle joyride through the opera canon. BLO kicks things off with that thunderous prelude—then gleefully romps through a dazzling mashup of operatic showstoppers\, unexpected twists\, and musical spectacle. It’s a concert with no brakes and all bravado. \nThe music? Unmissable. \nThe vibe? All-out BLO. \nSave the Date! The Opera Gala 2025: November 12\, 2025. Secure your concert subscription now\, and stay tuned for details on gala festivities surrounding the performance. \nLEARN MORE
URL:https://blo.org/event/ride-of-the-valkyries/
LOCATION:SoWa Power Station\, 550 Harrison Ave\, Boston\, 02118\, United States
CATEGORIES:2025/26 Season,Ride of the Valkyries!
ATTACH;FMTTYPE=image/jpeg:https://blo.org/wp-content/uploads/2025/05/743671184-blo2526_galavalkyries_3125x2188-scaled.jpg
ORGANIZER;CN="Boston Lyric Opera":MAILTO:boxoffice@blo.org
END:VEVENT
BEGIN:VEVENT
DTSTART;TZID=America/New_York:20251012T150000
DTEND;TZID=America/New_York:20251012T150000
DTSTAMP:20260422T020450
CREATED:20250522T185615Z
LAST-MODIFIED:20250829T203052Z
UID:10000062-1760281200-1760281200@blo.org
SUMMARY:Macbeth
DESCRIPTION:Shakespeare’s iconic tragedy becomes a psychological battleground examining the catastrophic consequences of war. Seduced by ambition\, a power-hungry couple claw their way to the throne—only to find their aspirations twisted into madness. Giuseppe Verdi’s career-defining music underscores their ruthless ascent. This is opera at its most thrilling: a blazing struggle with fate’s cruel grip. \nLEARN MORE
URL:https://blo.org/event/macbeth/2025-10-12/
LOCATION:Emerson Colonial Theatre\, 106 Boylston street\, Boston\, MA\, 02116\, United States
CATEGORIES:2025/26 Season,Macbeth
ATTACH;FMTTYPE=image/jpeg:https://blo.org/wp-content/uploads/2025/05/743671385-blo2526_macbeth_3125x2188-scaled.jpg
ORGANIZER;CN="Boston Lyric Opera":MAILTO:boxoffice@blo.org
END:VEVENT
BEGIN:VEVENT
DTSTART;TZID=America/New_York:20251010T193000
DTEND;TZID=America/New_York:20251010T193000
DTSTAMP:20260422T020450
CREATED:20250522T185615Z
LAST-MODIFIED:20250829T203052Z
UID:10000061-1760124600-1760124600@blo.org
SUMMARY:Macbeth
DESCRIPTION:Shakespeare’s iconic tragedy becomes a psychological battleground examining the catastrophic consequences of war. Seduced by ambition\, a power-hungry couple claw their way to the throne—only to find their aspirations twisted into madness. Giuseppe Verdi’s career-defining music underscores their ruthless ascent. This is opera at its most thrilling: a blazing struggle with fate’s cruel grip. \nLEARN MORE
URL:https://blo.org/event/macbeth/2025-10-10/
LOCATION:Emerson Colonial Theatre\, 106 Boylston street\, Boston\, MA\, 02116\, United States
CATEGORIES:2025/26 Season,Macbeth
ATTACH;FMTTYPE=image/jpeg:https://blo.org/wp-content/uploads/2025/05/743671385-blo2526_macbeth_3125x2188-scaled.jpg
ORGANIZER;CN="Boston Lyric Opera":MAILTO:boxoffice@blo.org
END:VEVENT
BEGIN:VEVENT
DTSTART;TZID=America/New_York:20250829T123000
DTEND;TZID=America/New_York:20250829T133000
DTSTAMP:20260422T020450
CREATED:20250410T144713Z
LAST-MODIFIED:20250829T135232Z
UID:10000053-1756470600-1756474200@blo.org
SUMMARY:Boston Public Library Concert in the Courtyard
DESCRIPTION:Boston Public Library Concert in the Courtyard\nFriday\, August 29\, 2025\n12:30pm to 1:30pm\nBoston Public Library Central Branch – Rabb Hall\n700 Boylston Street Boston\, MA 02116 \nFREE \nLEARN MOREDIGITAL PLAYBILL Boston Lyric Opera closes out the Boston Public Library’s 2025 Concert in the Courtyard series with a dynamic staged concert in an iconic Boston location. Bring your lunch and settle by the fountain or at cafe tables to enjoy virtuosic performances featuring BLO’s Jane and Steven Akin Emerging Artists. Enjoy sneak peaks into BLO’s 2025/26 Season as well as fan favorite repertoire you know and love. \nRegistration is not required but seating is first come\, first served. In the event of inclement weather\, the concert will be moved indoors to Rabb Lecture Hall. \nThis program is free and is recommended for audiences of all ages. Texts and English translations of the multi-lingual program will be provided on site. \nAccessibility Notice: To request a disability accommodation and/or language services\, please contact the Boston Public Library Adult Programs Department at programs@bpl.org or 617-859-2129. Please allow at least two weeks to arrange for accommodations. \nAbout the BLO/BPL Partnership\nBoston Lyric Opera has partnered with the Boston Public Library Central and branches across Boston for over twenty years providing the community equitable access to quality opera experiences. All programs in partnership with the BPL are made available for free and are open to the public to attend. Legacy programming includes our Opera Night at the BPL\, and yearly participation in the BPL’s Concerts in the Courtyard summer concert series. Additional projects and programs have included bringing our Opera 101 interactive performances to BPL Children’s Room’s across the city\, and programming specific collaborations. \nAbout the Jane & Steven Akin Emerging Artists\nBLO recognizes that the next generation of opera stars needs to be nurtured in order to flourish\, and that the future of the art form depends on their success. Jane & Steven Akin Emerging Artists are identified during the casting process of each Season’s repertoire. The Artists have\, in most cases\, already established themselves professionally and are drawn primarily from the post-graduate and post-young artist fields. Learn more about current and past Artists at: https://blo.org/emerging-artists/
URL:https://blo.org/event/boston-public-library-concert-in-the-courtyard-2/
LOCATION:Boston Public Library Central Branch\, Copley Square\, Boston\, MA\, 02116\, United States
CATEGORIES:2025/26 Season,Community Events,Concert in the Courtyard
ATTACH;FMTTYPE=image/png:https://blo.org/wp-content/uploads/2025/04/Concert-in-the-Courtyard-1-scaled.png
ORGANIZER;CN="Boston Lyric Opera":MAILTO:boxoffice@blo.org
END:VEVENT
END:VCALENDAR