BEGIN:VCALENDAR
VERSION:2.0
PRODID:-//Boston Lyric Opera - ECPv6.15.18//NONSGML v1.0//EN
CALSCALE:GREGORIAN
METHOD:PUBLISH
X-ORIGINAL-URL:https://blo.org
X-WR-CALDESC:Events for Boston Lyric Opera
REFRESH-INTERVAL;VALUE=DURATION:PT1H
X-Robots-Tag:noindex
X-PUBLISHED-TTL:PT1H
BEGIN:VTIMEZONE
TZID:America/New_York
BEGIN:DAYLIGHT
TZOFFSETFROM:-0500
TZOFFSETTO:-0400
TZNAME:EDT
DTSTART:20250309T070000
END:DAYLIGHT
BEGIN:STANDARD
TZOFFSETFROM:-0400
TZOFFSETTO:-0500
TZNAME:EST
DTSTART:20251102T060000
END:STANDARD
BEGIN:DAYLIGHT
TZOFFSETFROM:-0500
TZOFFSETTO:-0400
TZNAME:EDT
DTSTART:20260308T070000
END:DAYLIGHT
BEGIN:STANDARD
TZOFFSETFROM:-0400
TZOFFSETTO:-0500
TZNAME:EST
DTSTART:20261101T060000
END:STANDARD
BEGIN:DAYLIGHT
TZOFFSETFROM:-0500
TZOFFSETTO:-0400
TZNAME:EDT
DTSTART:20270314T070000
END:DAYLIGHT
BEGIN:STANDARD
TZOFFSETFROM:-0400
TZOFFSETTO:-0500
TZNAME:EST
DTSTART:20271107T060000
END:STANDARD
END:VTIMEZONE
BEGIN:VEVENT
DTSTART;TZID=America/New_York:20260324T193000
DTEND;TZID=America/New_York:20260324T193000
DTSTAMP:20260421T072720
CREATED:20250522T211401Z
LAST-MODIFIED:20250528T172443Z
UID:10000018-1774380600-1774380600@blo.org
SUMMARY:Raehann in Recital
DESCRIPTION:Raehann Bryce-Davis\, hailed as “one of the best mezzo-sopranos of this generation” (The New York Observer)\, takes the stage in a classical crossover recital presented by Boston Lyric Opera. Celebrated for her “powerhouse vocals” (OperaWire) and commanding presence\, Bryce-Davis brings her extraordinary artistry to a program spanning opera\, art song\, and contemporary works. A dynamic performer equally at home with Verdi\, Wagner\, and new commissions\, she has graced the stages of the Metropolitan Opera\, Dutch National Opera\, and Los Angeles Philharmonic—earning acclaim for her “rich\, velvety tone” and dramatic depth. Don’t miss this rare opportunity to experience her magnetic artistry up close in an evening of music that promises passion and virtuosity. \nLEARN MORE
URL:https://blo.org/event/raehann-in-recital/
LOCATION:Opera + Community Studios\, 15 Channel Center St\, Boston\, MA\, 02210\, United States
CATEGORIES:2025/26 Season,Raehann in Recital
ATTACH;FMTTYPE=image/png:https://blo.org/wp-content/uploads/2025/05/Raehann-scaled.png
ORGANIZER;CN="Boston Lyric Opera":MAILTO:boxoffice@blo.org
END:VEVENT
END:VCALENDAR