BEGIN:VCALENDAR
VERSION:2.0
PRODID:-//Boston Lyric Opera - ECPv6.15.18//NONSGML v1.0//EN
CALSCALE:GREGORIAN
METHOD:PUBLISH
X-WR-CALNAME:Boston Lyric Opera
X-ORIGINAL-URL:https://blo.org
X-WR-CALDESC:Events for Boston Lyric Opera
REFRESH-INTERVAL;VALUE=DURATION:PT1H
X-Robots-Tag:noindex
X-PUBLISHED-TTL:PT1H
BEGIN:VTIMEZONE
TZID:America/New_York
BEGIN:DAYLIGHT
TZOFFSETFROM:-0500
TZOFFSETTO:-0400
TZNAME:EDT
DTSTART:20240310T070000
END:DAYLIGHT
BEGIN:STANDARD
TZOFFSETFROM:-0400
TZOFFSETTO:-0500
TZNAME:EST
DTSTART:20241103T060000
END:STANDARD
BEGIN:DAYLIGHT
TZOFFSETFROM:-0500
TZOFFSETTO:-0400
TZNAME:EDT
DTSTART:20250309T070000
END:DAYLIGHT
BEGIN:STANDARD
TZOFFSETFROM:-0400
TZOFFSETTO:-0500
TZNAME:EST
DTSTART:20251102T060000
END:STANDARD
BEGIN:DAYLIGHT
TZOFFSETFROM:-0500
TZOFFSETTO:-0400
TZNAME:EDT
DTSTART:20260308T070000
END:DAYLIGHT
BEGIN:STANDARD
TZOFFSETFROM:-0400
TZOFFSETTO:-0500
TZNAME:EST
DTSTART:20261101T060000
END:STANDARD
END:VTIMEZONE
BEGIN:VEVENT
DTSTART;TZID=America/New_York:20250925T180000
DTEND;TZID=America/New_York:20250925T193000
DTSTAMP:20260422T025413
CREATED:20250813T145623Z
LAST-MODIFIED:20250923T193506Z
UID:10000102-1758823200-1758828600@blo.org
SUMMARY:Opera Night at the Boston Public Library: Women & Ambition
DESCRIPTION:September 25\, 2025 6:00 – 7:30 PM\nRabb Lecture Hall – Boston Public Library Central Branch\n700 Boylston Street\, Boston MA 02116 \nFREE – Register below for event reminders \nWhether seeking a crown\, plotting revenge\, or causing cosmic chaos\, female characters grappling with power have a distinct sound across centuries of operatic composition. Are we listening to what they have to say? In this powerful concert and conversation\, Boston Lyric Opera Artistic Director Nina Yoshida Nelsen guides audiences through the nuances of this emotionally\, psychologically\, and politically complex repertoire\, brought thrillingly to life with performances by BLO musicians. The evening concludes with a dynamic artist conversation and audience Q&A. \nFeaturing:\nBLO Artistic Director Nina Yoshida Nelsen\, moderator\nChelsea Basler\, soprano\nAngela Yam\, soprano\nJi Yung Lee\, pianist\nDr. Charmain Jackman\, PhD (Founder\, InnoPsych)\, guest speaker \nThis event welcomes all audiences – no past experience with opera is necessary! Playbills with texts and English translations will be provided. \nDIGITAL PLAYBILLREGISTER HERE  \nOpera Night at the Boston Public Library is a legacy community partnership between Boston Lyric Opera and the Boston Public Library\, offering equitable access to quality opera learning experiences for over 25 years
URL:https://blo.org/event/opera-night-at-the-boston-public-library-women-ambition/
LOCATION:Boston Public Library Central Branch – Rabb Hall\, Copley Square\, Boston\, MA\, 02116\, United States
CATEGORIES:Opera Night at the Boston Public Library
ATTACH;FMTTYPE=image/png:https://blo.org/wp-content/uploads/2025/08/Opera-Night-Women-Ambition-2-scaled.png
ORGANIZER;CN="Boston Lyric Opera":MAILTO:boxoffice@blo.org
END:VEVENT
BEGIN:VEVENT
DTSTART;TZID=America/New_York:20250515T180000
DTEND;TZID=America/New_York:20250515T193000
DTSTAMP:20260422T025413
CREATED:20241118T213258Z
LAST-MODIFIED:20250528T195653Z
UID:10000098-1747332000-1747337400@blo.org
SUMMARY:Opera Night at the BPL: The Future of Opera in Boston
DESCRIPTION:Opera Night at the BPL: The Future of Opera in Boston  \nMay 15\, 2025 \n6:00 – 7:30 PM \n \nRabb Lecture Hall – Boston Public Library Central Branch \n700 Boylston Street\, Boston MA 02116  \nWhat makes opera\, an art form with four centuries of history and tradition\, compelling for 21st century audiences? Join Boston Lyric Opera for a dynamic concert and conversation exploring the music\, producing practices\, and bold artistic ideas shaping opera in Boston today. Enjoy live performances of beautiful vocal music including re-imagined classics\, bold new works\, and show-stopping favorites from the company’s recent and upcoming seasons. In conversation with BLO’s visionary collaborators\, BLO General Director & CEO Bradley Vernatter will share insights about what lies ahead for opera in Boston. Designed for seasoned opera fans and newcomers alike\, this inspirational gathering celebrates music’s revolutionary spirit and demonstrates how opera resonates powerfully today.   \nFeatured artists:\nAlisa Cassola\, soprano \nMaggie Finnegan\, soprano\nMary Kray\, mezzo-soprano\nBrett Hodgdon\, pianist\nKirsten Greenidge\, playwright\n\nThis event welcomes all audiences – no past experience with opera is necessary! Playbills with texts and English translations will be provided.    \nRegistration is welcome but not required.  \nREGISTER HERE  \nOpera Night at the Boston Public Library is a legacy community partnership between Boston Lyric Opera and the Boston Public Library\, offering equitable access to quality opera learning experiences for over 25 years.
URL:https://blo.org/event/opera-night-at-the-boston-public-library-2/
LOCATION:Boston Public Library Central Branch – Rabb Hall\, Copley Square\, Boston\, MA\, 02116\, United States
CATEGORIES:Community Events,Opera Night at the Boston Public Library
ATTACH;FMTTYPE=image/png:https://blo.org/wp-content/uploads/2024/11/Event-Size-Images-New-2024-30-scaled.png
ORGANIZER;CN="Boston Lyric Opera":MAILTO:boxoffice@blo.org
END:VEVENT
END:VCALENDAR