BEGIN:VCALENDAR
VERSION:2.0
PRODID:-//Boston Lyric Opera - ECPv6.15.18//NONSGML v1.0//EN
CALSCALE:GREGORIAN
METHOD:PUBLISH
X-ORIGINAL-URL:https://blo.org
X-WR-CALDESC:Events for Boston Lyric Opera
REFRESH-INTERVAL;VALUE=DURATION:PT1H
X-Robots-Tag:noindex
X-PUBLISHED-TTL:PT1H
BEGIN:VTIMEZONE
TZID:America/New_York
BEGIN:DAYLIGHT
TZOFFSETFROM:-0500
TZOFFSETTO:-0400
TZNAME:EDT
DTSTART:20240310T070000
END:DAYLIGHT
BEGIN:STANDARD
TZOFFSETFROM:-0400
TZOFFSETTO:-0500
TZNAME:EST
DTSTART:20241103T060000
END:STANDARD
BEGIN:DAYLIGHT
TZOFFSETFROM:-0500
TZOFFSETTO:-0400
TZNAME:EDT
DTSTART:20250309T070000
END:DAYLIGHT
BEGIN:STANDARD
TZOFFSETFROM:-0400
TZOFFSETTO:-0500
TZNAME:EST
DTSTART:20251102T060000
END:STANDARD
BEGIN:DAYLIGHT
TZOFFSETFROM:-0500
TZOFFSETTO:-0400
TZNAME:EDT
DTSTART:20260308T070000
END:DAYLIGHT
BEGIN:STANDARD
TZOFFSETFROM:-0400
TZOFFSETTO:-0500
TZNAME:EST
DTSTART:20261101T060000
END:STANDARD
END:VTIMEZONE
BEGIN:VEVENT
DTSTART;TZID=America/New_York:20250719T150000
DTEND;TZID=America/New_York:20250719T150000
DTSTAMP:20260421T081637
CREATED:20250502T203725Z
LAST-MODIFIED:20250717T145559Z
UID:10000059-1752937200-1752937200@blo.org
SUMMARY:Street Stage @ Piers Park
DESCRIPTION:Street Stage at Piers Park  \nin partnership with Boston Harbor Now    \nWhen: Saturday\, July 19\, 3:00PM-4:00PM  \nRain date: Saturday\, July 26\, 3:00PM-4:00PM  \nWhere: Piers Park\, 95 Marginal St\, Boston\, MA 02128  \nFREE – Register for event reminders and weather alerts! \nREGISTERPLAYBILL Boston Lyric Opera’s Street Stage makes its East Boston debut with a free all-ages concert during Eastie Week 2025. Experience virtuosic performances in an oceanside amphitheater surrounded by stunning views of Boston Harbor. Want to stay for the day? Enjoy cultural and recreational activities nearby\, from free sailing and kayaking at the Piers Park Sailing Center to the Institute of Contemporary Art’s annual Block Party!  \nFeatured Performers:\nLaura Santamaria (soprano)\nMorgan Mastrangelo (tenor)\nBrendon Shapiro (pianist) \nLearn more about Eastie Week 2025: https://www.bostonharbornow.org/eastieweek/    \nThis program is free and welcomes audiences of all ages. Playbills with texts and English translations of the multilingual program will be available on site.   \nStreet Stage is supported by the Mayor’s Office of Arts and Culture and the City of Boston through the Neighborhood and Downtown Activation Grant.   \n  \n  \nSTREET STAGE: WHAT TO KNOW BEFORE YOU GO!  \n \nArrival  \nArrive any time to enjoy the park and Eastie Week activities before the 3:00 PM concert. BLO staff will be on site to provide programs and answer questions.   \nSeating  \nSeating is available on the open grass and surrounding shady areas. You are welcome to bring a blanket or lawn chair. A limited number of seats will be provided on site. Please prioritize seating for anyone with accessibility needs.  \n \nAccessibility  \nPiers Park is wheelchair accessible. If you need any special accommodations\, please email access@blo.org.  \n \nWeather  \nStreet Stage will proceed in a variety of weather conditions\, including direct sun and light drizzle. In the case of severe inclement weather (including storms\, strong winds\, and extreme heat) BLO staff will update our website with the new performance time. Register for the event to receive an e-mail with weather-related updates.  \nPublic Transit   \nPiers Park is an approximately 10-minute walk from Maverick Square (Blue Line). \nTransport by Water Shuttle is also available between the ICA and Watershed location nearby (learn more).  \nParking   \nThere is limited free parking along Marginal Street and in the Piers Park parking lot. Please check signs for resident-only restrictions.   \nFood & Beverages  \nFood and beverages are welcome on site\, and we encourage you to bring water. On-site alcohol consumption is prohibited.    \nPets  \nPets are welcome at Street Stage events but should be kept on a leash and cleaned up after.  \nWhat to bring:  \nHere's a suggested packing list!    \n\nSunscreen  \nHat\, visor\, sunglasses\, personal fan  \nBug spray  \nWater & snacks  \nLawn chair or blanket  \nMasks (optional but always welcome) 
URL:https://blo.org/event/street-stage-piers-park/
LOCATION:Piers Park\, 95 Marginal St\, Boston\, 02128\, United States
CATEGORIES:Street Stage
ATTACH;FMTTYPE=image/png:https://blo.org/wp-content/uploads/2025/05/SS-2025-Piers-Park-scaled.png
ORGANIZER;CN="Boston Lyric Opera":MAILTO:boxoffice@blo.org
END:VEVENT
BEGIN:VEVENT
DTSTART;TZID=America/New_York:20250727T110000
DTEND;TZID=America/New_York:20250727T140000
DTSTAMP:20260421T081637
CREATED:20250617T153441Z
LAST-MODIFIED:20250724T154257Z
UID:10000001-1753614000-1753624800@blo.org
SUMMARY:Street Stage at SoWa Open Market
DESCRIPTION:Street Stage at SoWa Open Market  \nWhen: Sunday July 27\, 11AM – 2PM  \nRain date: Sunday August 3\, 11AM-2PM  \nWhere: 500 Harrison Avenue\, Boston MA 02118 \nFREE – Register for event reminders and weather alerts! \nREGISTERVIEW PLAYBILLBoston Lyric Opera teams up with one of Boston’s most creative destinations for an open-air concert and artisan experience. Nestled among artist studios\, galleries\, and retail shops\, the SoWa (South of Washington) Open Market features a variety of regional and local vendors\, plus food and beverage trucks\, lawn games\, and other all-ages activities. BLO’s virtuosic musicians will perform mini-sets of fan-favorite opera and musical theater repertoire while audiences sample delicious food and discover handmade treasures. Come early for opera trivia\, giveaways\, and interactive fun during this special “Christmas in July”-themed event!   \nFeatured Performers:\nLaura Santamaria (soprano)\nMorgan Mastrangelo (tenor)\nJames Lorusso (pianist) \nLearn more about the SoWa Open Market \n This program is free and recommended for audiences of all ages. Playbills with texts and English translations of the multilingual program will be provided on site.   \n Street Stage is supported by the Mayor’s Office of Arts and Culture and the City of Boston through the Neighborhood and Downtown Activation Grant.   \n  \nSTREET STAGE: WHAT TO KNOW BEFORE YOU GO!  \n \nArrival  \nSoWa Open Market opens to visitors at 11AM. BLO will be on site from 11-2\, with the main vocal sets featured between 12 – 1:30. Audience can arrive at anytime and come and go as they please. BLO staff will be on site to provide concert programs and answer questions.   \nSeating  \nSeating is available at picnic tables\, on benches\, and on the nearby turf lawn facing the outdoor stage. Please prioritize seating for anyone with accessibility needs.  \n \nAccessibility  \nThe SoWa Open Market is wheelchair accessible. Restrooms (both indoor and portable toilets) are available on site. If you need any special accommodations\, please email boxoffice@blo.org.  \n  \nWeather  \nStreet Stage will proceed in a variety of weather conditions\, including direct sun and light drizzle. In the case of severe inclement weather (including storms\, strong winds\, and extreme heat) BLO staff will update our website with the new performance time. Register for the event to receive an e-mail with weather-related updates.  \nPublic Transit   \nThe nearest MBTA stops are Back Bay or Tufts Medical Station (Orange Line) and Broadway (Red Line). The closest Silver Line 4 stop is at Washington St. and E. Berkeley St.  \nParking   \nThere are paid lots available at 540 Harrison Avenue\, 365 Albany Street\, 324 Albany Street\, and 274 Albany Street. All lots are $10 cash. Metered Street Parking is also free in Boston on Sundays.  \nFood & Beverages  \nFood and beverages are welcome on site\, and numerous food and beverage trucks are available. Beer\, wine\, and other adult beverages are available for purchase for guests 21+\, and must be consumed on the premises. No outside alcohol is permitted.  \nPets  \nPets are welcome at Street Stage events but should be kept on a leash and cleaned up after.  \nWhat to bring:  \nHere's a suggested packing list!    \n\nSunscreen  \nHat\, visor\, sunglasses\, personal fan  \nBug spray  \nWater & snacks  \nMasks (optional but always welcome) 
URL:https://blo.org/event/street-stage-at-sowa-open-market/
LOCATION:SoWa Open Market\, 500 Harrison Avenue\, Boston\, 02118\, United States
CATEGORIES:Street Stage
ATTACH;FMTTYPE=image/png:https://blo.org/wp-content/uploads/2025/06/SS-2025-SoWa-scaled.png
ORGANIZER;CN="Boston Lyric Opera":MAILTO:boxoffice@blo.org
END:VEVENT
BEGIN:VEVENT
DTSTART;TZID=America/New_York:20250730T183000
DTEND;TZID=America/New_York:20250730T183000
DTSTAMP:20260421T081637
CREATED:20250502T204339Z
LAST-MODIFIED:20250728T162942Z
UID:10000060-1753900200-1753900200@blo.org
SUMMARY:Street Stage @ Rose Kennedy Greenway
DESCRIPTION:  \nStreet Stage at Rose Kennedy Greenway  \nWhen: Wednesday\, July 30\, 6:30 PM-7:30 PM  \nRain date: Wednesday\, August 6\, 6:30PM-7:30PM  \nWhere: Rowes Wharf Plaza\, Intersection of Atlantic Ave & High Street\, Boston 02110 \nFREE – Register for event reminders and weather alerts! \n\nREGISTERVIEW PLAYBILLBoston’s beloved downtown park becomes an open-air opera house as BLO’s Street Stage returns to the Rose Kennedy Greenway. Enjoy a memorable summer evening of enchanting arias showcasing fan-favorite repertoire and virtuosic singing. Bring a blanket or lawn chair to picnic on the grass\, or stroll by for a song while enjoying Boston’s vibrant waterfront.  \nFeatured Performers:\nCarley DeFranco (soprano)\nMorgan Mastrangelo (tenor)\nJi Yung Lee (pianist) \nLearn more about the Rose Kennedy Greenway: https://www.rosekennedygreenway.org/   \nThis program is free and recommended for audiences of all ages. Playbills with texts and English translations of the multilingual program will be provided on site.   \nStreet Stage is supported by the Mayor’s Office of Arts and Culture and the City of Boston through the Neighborhood and Downtown Activation Grant.   \n  \n  \nSTREET STAGE: WHAT TO KNOW BEFORE YOU GO!  \n \nArrival  \nEarly arrivals are encouraged! You are welcome to come and go during the approximately 1-hour concert. BLO staff will be on site to provide concert programs and answer questions.   \nSeating  \nSeating is available on the open grass and on stone ledges on the perimeter of the lawn. You are welcome to bring a blanket or lawn chair. A limited number of seats will be provided on site. Please prioritize seating for anyone with accessibility needs.  \n \nAccessibility  \nThe Rose Kennedy Greenway is wheelchair accessible. If you need any special accommodations\, please email access@blo.org.  \n \nWeather  \nStreet Stage will proceed in a variety of weather conditions\, including direct sun and light drizzle. In the case of severe inclement weather (including storms\, strong winds\, and extreme heat) BLO staff will update our website with the new performance time. Register for the event to receive an e-mail with weather-related updates.  \nPublic Transit   \nThe nearest MBTA stop is Aquarium (Blue Line). The Greenway is within walking distance of South Station (Red Line)\, Downtown Crossing (Red & Orange Lines)\, and Government Center (Blue & Green Lines).  \nParking   \nThe closest garages are Boston Harbor Hotel Garage\, 30 Rowes Wharf\, Boston MA 02110 and Boston Harbor Garage\, 266 Atlantic Ave\, Boston\, MA 02110. Limited street parking is available—please read signs carefully for restrictions.  \nFood & Beverages  \nFood and beverages are welcome on site\, and we encourage you to bring water. On-site alcohol consumption is prohibited. The Trillium beer garden is located on the Greenway within earshot of the Street Stage performance.    \nPets  \nPets are welcome at Street Stage events but should be kept on a leash and cleaned up after.  \nWhat to bring:  \nHere’s a suggested packing list!    \n\nSunscreen  \nHat\, visor\, sunglasses\, personal fan  \nBug spray  \nWater & snacks  \nLawn chair or blanket  \nMasks (optional but always welcome) 
URL:https://blo.org/event/street-stage-rose-kennedy-greenway-2/
LOCATION:Rose Kennedy Greenway\, High St &\, Atlantic Ave\, Boston\, MA\, 02110\, United States
CATEGORIES:Street Stage
ATTACH;FMTTYPE=image/png:https://blo.org/wp-content/uploads/2025/05/SS-2025-Greenway-scaled.png
ORGANIZER;CN="Boston Lyric Opera":MAILTO:boxoffice@blo.org
END:VEVENT
END:VCALENDAR