BEGIN:VCALENDAR
VERSION:2.0
PRODID:-//Boston Lyric Opera - ECPv6.15.18//NONSGML v1.0//EN
CALSCALE:GREGORIAN
METHOD:PUBLISH
X-ORIGINAL-URL:https://blo.org
X-WR-CALDESC:Events for Boston Lyric Opera
REFRESH-INTERVAL;VALUE=DURATION:PT1H
X-Robots-Tag:noindex
X-PUBLISHED-TTL:PT1H
BEGIN:VTIMEZONE
TZID:America/New_York
BEGIN:DAYLIGHT
TZOFFSETFROM:-0500
TZOFFSETTO:-0400
TZNAME:EDT
DTSTART:20240310T070000
END:DAYLIGHT
BEGIN:STANDARD
TZOFFSETFROM:-0400
TZOFFSETTO:-0500
TZNAME:EST
DTSTART:20241103T060000
END:STANDARD
BEGIN:DAYLIGHT
TZOFFSETFROM:-0500
TZOFFSETTO:-0400
TZNAME:EDT
DTSTART:20250309T070000
END:DAYLIGHT
BEGIN:STANDARD
TZOFFSETFROM:-0400
TZOFFSETTO:-0500
TZNAME:EST
DTSTART:20251102T060000
END:STANDARD
BEGIN:DAYLIGHT
TZOFFSETFROM:-0500
TZOFFSETTO:-0400
TZNAME:EDT
DTSTART:20260308T070000
END:DAYLIGHT
BEGIN:STANDARD
TZOFFSETFROM:-0400
TZOFFSETTO:-0500
TZNAME:EST
DTSTART:20261101T060000
END:STANDARD
END:VTIMEZONE
BEGIN:VEVENT
DTSTART;TZID=America/New_York:20250929T170000
DTEND;TZID=America/New_York:20250929T190000
DTSTAMP:20260422T011910
CREATED:20250902T200805Z
LAST-MODIFIED:20250905T214539Z
UID:10000109-1759165200-1759172400@blo.org
SUMMARY:Deconstructing Opera: Macbeth
DESCRIPTION:Join friends and fellow opera lovers for a behind-the-scenes look at BLO’s upcoming production of Verdi‘s Macbeth. Artistic Director Nina Yoshida Nelsen will lead a conversation with Music Director David Angus\, baritone Norman Garrett (Macbeth)\, and soprano Alexandra LoBianco (Lady Macbeth).  \nThe evening will include a complimentary reception with drinks and light bites.  \nThis event is open to BLO Members. To become a member\, make a gift of $100 today and our Donor Services team will be in touch! \nBECOME A MEMBER
URL:https://blo.org/event/deconstructing-opera-macbeth/
LOCATION:Boston Center for the Arts – Plaza Black Box Theatre\, 539 Tremont Street\, Boston\, 02116\, United States
ATTACH;FMTTYPE=image/png:https://blo.org/wp-content/uploads/2025/09/Event-DOS-Macbeth-2-scaled.png
ORGANIZER;CN="Boston Lyric Opera":MAILTO:boxoffice@blo.org
END:VEVENT
END:VCALENDAR