BEGIN:VCALENDAR
VERSION:2.0
PRODID:-//Boston Lyric Opera - ECPv6.15.18//NONSGML v1.0//EN
CALSCALE:GREGORIAN
METHOD:PUBLISH
X-ORIGINAL-URL:https://blo.org
X-WR-CALDESC:Events for Boston Lyric Opera
REFRESH-INTERVAL;VALUE=DURATION:PT1H
X-Robots-Tag:noindex
X-PUBLISHED-TTL:PT1H
BEGIN:VTIMEZONE
TZID:America/New_York
BEGIN:DAYLIGHT
TZOFFSETFROM:-0500
TZOFFSETTO:-0400
TZNAME:EDT
DTSTART:20250309T070000
END:DAYLIGHT
BEGIN:STANDARD
TZOFFSETFROM:-0400
TZOFFSETTO:-0500
TZNAME:EST
DTSTART:20251102T060000
END:STANDARD
BEGIN:DAYLIGHT
TZOFFSETFROM:-0500
TZOFFSETTO:-0400
TZNAME:EDT
DTSTART:20260308T070000
END:DAYLIGHT
BEGIN:STANDARD
TZOFFSETFROM:-0400
TZOFFSETTO:-0500
TZNAME:EST
DTSTART:20261101T060000
END:STANDARD
BEGIN:DAYLIGHT
TZOFFSETFROM:-0500
TZOFFSETTO:-0400
TZNAME:EDT
DTSTART:20270314T070000
END:DAYLIGHT
BEGIN:STANDARD
TZOFFSETFROM:-0400
TZOFFSETTO:-0500
TZNAME:EST
DTSTART:20271107T060000
END:STANDARD
END:VTIMEZONE
BEGIN:VEVENT
DTSTART;TZID=America/New_York:20260614T150000
DTEND;TZID=America/New_York:20260614T150000
DTSTAMP:20260422T032537
CREATED:20250523T154045Z
LAST-MODIFIED:20260408T144709Z
UID:10000016-1781449200-1781449200@blo.org
SUMMARY:She Was There: Concert
DESCRIPTION:Inspired by the profound words of the spiritual “Were You There?” this two-day event brings together film\, music\, and dialogue to illuminate the often-overlooked stories of Black revolutionary women throughout history. \nDay Two: Concert & Reception \nSunday\, June 14\, 2026 | 3:00 PM \nMuseum of African American History\, African Meeting House \nFree with RSVP • Capacity limited to 175 \nExperience a powerful musical tribute bringing together artists from Boston Lyric Opera and Castle of Our Skins. Through opera\, spirituals\, new works\, and spoken testimony\, this concert uplifts the lives of Black women whose leadership shaped American history—honoring both well-documented figures and those nearly lost to time. \nGuests are invited to a pre-concert reception at 2:30 PM in the Susan Paul Room. \nLEARN MORE \nThis program is presented in partnership by Boston Lyric Opera\, Castle of our Skins\, Everyone250\, MA250\, Museum of African American History\, Roxbury International Film Festival\, and West End Museum. \nShe Was There received funding from a civic practice grant from OPERA America’s Opera Fund. \nThis event is presented in partnership with Everyone250.
URL:https://blo.org/event/she-was-there-concert/
LOCATION:Museum of African American History\, 46 Joy Street\, Boston\, 02114\, United States
CATEGORIES:2025/26 Season,She Was There,Voices of Revolution
ATTACH;FMTTYPE=image/png:https://blo.org/wp-content/uploads/2025/05/She-Was-There-1-scaled.png
ORGANIZER;CN="Boston Lyric Opera":MAILTO:boxoffice@blo.org
END:VEVENT
END:VCALENDAR