BEGIN:VCALENDAR
VERSION:2.0
PRODID:-//Boston Lyric Opera - ECPv6.15.18//NONSGML v1.0//EN
CALSCALE:GREGORIAN
METHOD:PUBLISH
X-WR-CALNAME:Boston Lyric Opera
X-ORIGINAL-URL:https://blo.org
X-WR-CALDESC:Events for Boston Lyric Opera
REFRESH-INTERVAL;VALUE=DURATION:PT1H
X-Robots-Tag:noindex
X-PUBLISHED-TTL:PT1H
BEGIN:VTIMEZONE
TZID:America/New_York
BEGIN:DAYLIGHT
TZOFFSETFROM:-0500
TZOFFSETTO:-0400
TZNAME:EDT
DTSTART:20240310T070000
END:DAYLIGHT
BEGIN:STANDARD
TZOFFSETFROM:-0400
TZOFFSETTO:-0500
TZNAME:EST
DTSTART:20241103T060000
END:STANDARD
BEGIN:DAYLIGHT
TZOFFSETFROM:-0500
TZOFFSETTO:-0400
TZNAME:EDT
DTSTART:20250309T070000
END:DAYLIGHT
BEGIN:STANDARD
TZOFFSETFROM:-0400
TZOFFSETTO:-0500
TZNAME:EST
DTSTART:20251102T060000
END:STANDARD
BEGIN:DAYLIGHT
TZOFFSETFROM:-0500
TZOFFSETTO:-0400
TZNAME:EDT
DTSTART:20260308T070000
END:DAYLIGHT
BEGIN:STANDARD
TZOFFSETFROM:-0400
TZOFFSETTO:-0500
TZNAME:EST
DTSTART:20261101T060000
END:STANDARD
BEGIN:DAYLIGHT
TZOFFSETFROM:-0500
TZOFFSETTO:-0400
TZNAME:EDT
DTSTART:20270314T070000
END:DAYLIGHT
BEGIN:STANDARD
TZOFFSETFROM:-0400
TZOFFSETTO:-0500
TZNAME:EST
DTSTART:20271107T060000
END:STANDARD
END:VTIMEZONE
BEGIN:VEVENT
DTSTART;TZID=America/New_York:20260210T193000
DTEND;TZID=America/New_York:20260210T193000
DTSTAMP:20260422T093002
CREATED:20250522T205008Z
LAST-MODIFIED:20260113T204548Z
UID:10000019-1770751800-1770751800@blo.org
SUMMARY:Mahler Symphony No. 3
DESCRIPTION:Boston Lyric Opera joins Vivo Performing Arts in their presentation of Mahler’s Third Symphony. A colossal masterpiece featuring two choirs\, an expanded orchestra\, and an alto soloist\, this epic work embraces the forces of nature\, the exuberance of life\, the innocence of childhood\, and the transcendent beauty of love. \nLeading this journey are the acclaimed Mahler interpreter Iván Fischer and the Budapest Festival Orchestra. With their signature humanity\, clarity\, and attention to detail\, they bring this symphony to life—capturing the rustle of birds and insects in a summer meadow\, the shimmer of moonlight\, and the breathtaking sweep of the triumphant finale. \nPerformed with the Boston Lyric Opera Chorus and Budapest Festival Orchestra. \nLEARN MORE
URL:https://blo.org/event/mahler-symphony-no-3/
LOCATION:Symphony Hall\, 301 Massachusetts Ave\, Boston\, 02115\, United States
CATEGORIES:2025/26 Season,Mahler Symphony No. 3
ATTACH;FMTTYPE=image/png:https://blo.org/wp-content/uploads/2025/05/Mahler-3-1.png
ORGANIZER;CN="Boston Lyric Opera":MAILTO:boxoffice@blo.org
END:VEVENT
BEGIN:VEVENT
DTSTART;TZID=America/New_York:20260110T200000
DTEND;TZID=America/New_York:20260110T200000
DTSTAMP:20260422T093002
CREATED:20250522T193255Z
LAST-MODIFIED:20250528T155444Z
UID:10000013-1768075200-1768075200@blo.org
SUMMARY:Vanessa
DESCRIPTION:Andris Nelsons leads a brilliant ensemble of opera’s foremost stars in Samuel Barber’s Vanessa – the 1958 Pulitzer Prize-winning masterpiece that stands as a pinnacle of American opera. Presented in Symphony Hall’s legendary acoustics\, with Gian Carlo Menotti’s poignant libretto and Barber’s achingly beautiful score\, this mid-century masterpiece explores the illusions of love through music of extraordinary emotional power. \n\n\nPresented in collaboration with Boston Symphony Orchestra.\nPerformed with the Boston Lyric Opera Chorus. \n\nLEARN MORE
URL:https://blo.org/event/vanessa/2026-01-10/
LOCATION:Symphony Hall\, 301 Massachusetts Ave\, Boston\, 02115\, United States
CATEGORIES:2025/26 Season,Vanessa
ATTACH;FMTTYPE=image/png:https://blo.org/wp-content/uploads/2025/05/Vanessa-scaled.png
ORGANIZER;CN="Boston Lyric Opera":MAILTO:boxoffice@blo.org
END:VEVENT
BEGIN:VEVENT
DTSTART;TZID=America/New_York:20260108T193000
DTEND;TZID=America/New_York:20260108T193000
DTSTAMP:20260422T093002
CREATED:20250522T193255Z
LAST-MODIFIED:20250528T155444Z
UID:10000012-1767900600-1767900600@blo.org
SUMMARY:Vanessa
DESCRIPTION:Andris Nelsons leads a brilliant ensemble of opera’s foremost stars in Samuel Barber’s Vanessa – the 1958 Pulitzer Prize-winning masterpiece that stands as a pinnacle of American opera. Presented in Symphony Hall’s legendary acoustics\, with Gian Carlo Menotti’s poignant libretto and Barber’s achingly beautiful score\, this mid-century masterpiece explores the illusions of love through music of extraordinary emotional power. \n\n\nPresented in collaboration with Boston Symphony Orchestra.\nPerformed with the Boston Lyric Opera Chorus. \n\nLEARN MORE
URL:https://blo.org/event/vanessa/2026-01-08/
LOCATION:Symphony Hall\, 301 Massachusetts Ave\, Boston\, 02115\, United States
CATEGORIES:2025/26 Season,Vanessa
ATTACH;FMTTYPE=image/png:https://blo.org/wp-content/uploads/2025/05/Vanessa-scaled.png
ORGANIZER;CN="Boston Lyric Opera":MAILTO:boxoffice@blo.org
END:VEVENT
BEGIN:VEVENT
DTSTART;TZID=America/New_York:20250503T140000
DTEND;TZID=America/New_York:20250503T160000
DTSTAMP:20260422T093002
CREATED:20240508T174314Z
LAST-MODIFIED:20250528T195730Z
UID:10000099-1746280800-1746288000@blo.org
SUMMARY:Noah's Flood
DESCRIPTION:  \nNoah’s Flood is based on a 15th-century play recounting the story of one family’s resilience in the face of an earth-shattering storm. Composer Benjamin Britten wrote this opera just a few years after experiencing a devastating flood in his own coastal town. Nearly 70 years later\, climate resilience has taken an even greater spotlight.  \nUnder the baton of David Angus and in collaboration with Boston Children’s Chorus\, Boston String Academy\, Back Bay Ringers\, Boston Symphony Orchestra\, New England Conservatory Preparatory School — and more — hundreds of Boston area youth alongside BLO artists will come together to bring you a timely\, tour-de-force event. \nNoah’s Flood is made possible by BLO supporters who are invested in building the next generation of opera lovers in Boston. Join BLO in its first community opera uniting Boston through music\, collaboration\, and fun — a perfect outing for the whole family! \n\n\n  \nThis event is made possible by the generous support of the Mattina R. Proctor Foundation. \nBy arrangement with Boosey & Hawkes\, publisher and copyright owner \nNoah’s Flood is part of BLO’s Rising Waters/Rising Voices initiative. \n\nSponsored in part by Polaris Capital Management \n  \nLEARN MORE
URL:https://blo.org/event/noahs-flood/
LOCATION:Symphony Hall\, 301 Massachusetts Ave\, Boston\, 02115\, United States
CATEGORIES:2024/25 Season,Noah's Flood
ATTACH;FMTTYPE=image/png:https://blo.org/wp-content/uploads/2024/05/1.png
ORGANIZER;CN="Boston Lyric Opera":MAILTO:boxoffice@blo.org
END:VEVENT
END:VCALENDAR